Package: conumee Version: 1.44.0 Command: /Library/Frameworks/R.framework/Resources/bin/R CMD build --keep-empty-dirs --no-resave-data conumee StartedAt: 2025-11-10 16:01:18 -0500 (Mon, 10 Nov 2025) EndedAt: 2025-11-10 16:04:30 -0500 (Mon, 10 Nov 2025) EllapsedTime: 192.1 seconds RetCode: 0 Status: OK PackageFile: conumee_1.44.0.tar.gz PackageFileSize: 1.783 MiB