Package: conumee Version: 1.44.0 Command: rm -rf conumee.buildbin-libdir && mkdir conumee.buildbin-libdir && /Users/biocbuild/BBS/utils/build-universal.sh conumee_1.44.0.tar.gz /Library/Frameworks/R.framework/Resources/bin/R conumee.buildbin-libdir StartedAt: 2025-11-10 23:15:57 -0500 (Mon, 10 Nov 2025) EndedAt: 2025-11-10 23:17:45 -0500 (Mon, 10 Nov 2025) EllapsedTime: 107.9 seconds RetCode: 0 Status: OK PackageFile: conumee_1.44.0.tgz PackageFileSize: 2.13 MiB