Package: consensusSeekeR Version: 1.38.0 Command: /home/biocbuild/bbs-3.22-bioc/R/bin/R CMD build --keep-empty-dirs --no-resave-data --md5 consensusSeekeR StartedAt: 2025-11-11 17:03:42 -0500 (Tue, 11 Nov 2025) EndedAt: 2025-11-11 17:05:28 -0500 (Tue, 11 Nov 2025) EllapsedTime: 106.1 seconds RetCode: 0 Status: OK PackageFile: consensusSeekeR_1.38.0.tar.gz PackageFileSize: 741.8 KiB