Package: consensusSeekeR Version: 1.38.0 Command: /Library/Frameworks/R.framework/Resources/bin/R CMD INSTALL consensusSeekeR StartedAt: 2025-11-03 15:34:59 -0500 (Mon, 03 Nov 2025) EndedAt: 2025-11-03 15:35:39 -0500 (Mon, 03 Nov 2025) EllapsedTime: 40.1 seconds RetCode: 0 Status: OK