Package: consensusSeekeR Version: 1.38.0 Command: /Library/Frameworks/R.framework/Resources/bin/R CMD build --keep-empty-dirs --no-resave-data consensusSeekeR StartedAt: 2025-11-03 16:34:17 -0500 (Mon, 03 Nov 2025) EndedAt: 2025-11-03 16:36:16 -0500 (Mon, 03 Nov 2025) EllapsedTime: 118.6 seconds RetCode: 0 Status: OK PackageFile: consensusSeekeR_1.38.0.tar.gz PackageFileSize: 738.7 KiB