Package: consensusSeekeR Version: 1.38.0 Command: rm -rf consensusSeekeR.buildbin-libdir && mkdir consensusSeekeR.buildbin-libdir && /Users/biocbuild/BBS/utils/build-universal.sh consensusSeekeR_1.38.0.tar.gz /Library/Frameworks/R.framework/Resources/bin/R consensusSeekeR.buildbin-libdir StartedAt: 2025-11-04 01:34:17 -0500 (Tue, 04 Nov 2025) EndedAt: 2025-11-04 01:34:59 -0500 (Tue, 04 Nov 2025) EllapsedTime: 42.8 seconds RetCode: 0 Status: OK PackageFile: consensusSeekeR_1.38.0.tgz PackageFileSize: 614.8 KiB