Package: consensusSeekeR Version: 1.36.0 Command: /home/biocbuild/R/R/bin/R CMD build --keep-empty-dirs --no-resave-data consensusSeekeR StartedAt: 2025-10-13 23:50:18 -0000 (Mon, 13 Oct 2025) EndedAt: 2025-10-13 23:51:24 -0000 (Mon, 13 Oct 2025) EllapsedTime: 66.0 seconds RetCode: 0 Status: OK PackageFile: consensusSeekeR_1.36.0.tar.gz PackageFileSize: 763.6 KiB