Package: consensusSeekeR Version: 1.36.0 Command: /Library/Frameworks/R.framework/Resources/bin/R CMD build --keep-empty-dirs --no-resave-data consensusSeekeR StartedAt: 2025-04-21 15:59:23 -0400 (Mon, 21 Apr 2025) EndedAt: 2025-04-21 15:59:45 -0400 (Mon, 21 Apr 2025) EllapsedTime: 22.2 seconds RetCode: 0 Status: OK PackageFile: consensusSeekeR_1.36.0.tar.gz PackageFileSize: 739.5 KiB