Package: consensusOV Version: 1.32.0 Command: /Library/Frameworks/R.framework/Resources/bin/R CMD INSTALL consensusOV StartedAt: 2025-11-10 15:29:38 -0500 (Mon, 10 Nov 2025) EndedAt: 2025-11-10 15:30:06 -0500 (Mon, 10 Nov 2025) EllapsedTime: 27.9 seconds RetCode: 0 Status: OK