Package: consensusOV Version: 1.32.0 Command: /Library/Frameworks/R.framework/Resources/bin/R CMD build --keep-empty-dirs --no-resave-data consensusOV StartedAt: 2025-11-10 16:01:00 -0500 (Mon, 10 Nov 2025) EndedAt: 2025-11-10 16:02:06 -0500 (Mon, 10 Nov 2025) EllapsedTime: 65.8 seconds RetCode: 0 Status: OK PackageFile: consensusOV_1.32.0.tar.gz PackageFileSize: 3.212 MiB