Package: consensusDE Version: 1.28.0 Command: /home/biocbuild/bbs-3.22-bioc/R/bin/R CMD INSTALL consensusDE StartedAt: 2025-11-03 15:55:59 -0500 (Mon, 03 Nov 2025) EndedAt: 2025-11-03 15:56:49 -0500 (Mon, 03 Nov 2025) EllapsedTime: 49.8 seconds RetCode: 0 Status: OK