Package: consensusDE Version: 1.28.0 Command: /home/biocbuild/bbs-3.22-bioc/R/bin/R CMD build --keep-empty-dirs --no-resave-data --md5 consensusDE StartedAt: 2025-11-02 17:13:57 -0500 (Sun, 02 Nov 2025) EndedAt: 2025-11-02 17:15:29 -0500 (Sun, 02 Nov 2025) EllapsedTime: 92.1 seconds RetCode: 0 Status: OK PackageFile: consensusDE_1.28.0.tar.gz PackageFileSize: 897.4 KiB