Package: consensus Version: 1.28.0 Command: /home/biocbuild/bbs-3.22-bioc/R/bin/R CMD build --keep-empty-dirs --no-resave-data --md5 consensus StartedAt: 2025-11-11 17:03:31 -0500 (Tue, 11 Nov 2025) EndedAt: 2025-11-11 17:03:38 -0500 (Tue, 11 Nov 2025) EllapsedTime: 7.0 seconds RetCode: 0 Status: OK PackageFile: consensus_1.28.0.tar.gz PackageFileSize: 972 KiB