Package: consensus Version: 1.26.0 Command: /home/biocbuild/R/R/bin/R CMD build --keep-empty-dirs --no-resave-data consensus StartedAt: 2025-10-13 23:49:57 -0000 (Mon, 13 Oct 2025) EndedAt: 2025-10-13 23:50:05 -0000 (Mon, 13 Oct 2025) EllapsedTime: 8.0 seconds RetCode: 0 Status: OK PackageFile: consensus_1.26.0.tar.gz PackageFileSize: 964 KiB