Package: condiments Version: 1.18.0 Command: /home/biocbuild/R/R/bin/R CMD INSTALL condiments StartedAt: 2025-11-20 22:51:13 -0000 (Thu, 20 Nov 2025) EndedAt: 2025-11-20 22:52:01 -0000 (Thu, 20 Nov 2025) EllapsedTime: 48.8 seconds RetCode: 0 Status: OK