Package: condiments Version: 1.18.0 Command: /home/biocbuild/R/R/bin/R CMD build --keep-empty-dirs --no-resave-data condiments StartedAt: 2025-11-21 01:23:57 -0000 (Fri, 21 Nov 2025) EndedAt: 2025-11-21 01:28:28 -0000 (Fri, 21 Nov 2025) EllapsedTime: 271.1 seconds RetCode: 0 Status: OK PackageFile: condiments_1.18.0.tar.gz PackageFileSize: 1.391 MiB