Package: condiments Version: 1.16.0 Command: /home/biocbuild/bbs-3.21-bioc/R/bin/R CMD INSTALL condiments StartedAt: 2025-10-05 15:56:12 -0400 (Sun, 05 Oct 2025) EndedAt: 2025-10-05 15:56:47 -0400 (Sun, 05 Oct 2025) EllapsedTime: 34.3 seconds RetCode: 0 Status: OK