Package: condiments Version: 1.16.0 Command: rm -rf condiments.buildbin-libdir && mkdir condiments.buildbin-libdir && /Users/biocbuild/BBS/utils/build-universal.sh condiments_1.16.0.tar.gz /Library/Frameworks/R.framework/Resources/bin/R condiments.buildbin-libdir StartedAt: 2025-04-22 00:39:41 -0400 (Tue, 22 Apr 2025) EndedAt: 2025-04-22 00:40:32 -0400 (Tue, 22 Apr 2025) EllapsedTime: 50.4 seconds RetCode: 0 Status: OK PackageFile: condiments_1.16.0.tgz PackageFileSize: 2.333 MiB