Package: condiments Version: 1.16.0 Command: /Library/Frameworks/R.framework/Resources/bin/R CMD INSTALL condiments StartedAt: 2025-10-06 18:27:32 -0400 (Mon, 06 Oct 2025) EndedAt: 2025-10-06 18:28:15 -0400 (Mon, 06 Oct 2025) EllapsedTime: 43.5 seconds RetCode: 0 Status: OK