Package: condiments Version: 1.16.0 Command: /Library/Frameworks/R.framework/Resources/bin/R CMD build --keep-empty-dirs --no-resave-data condiments StartedAt: 2025-10-06 21:58:21 -0400 (Mon, 06 Oct 2025) EndedAt: 2025-10-06 22:02:24 -0400 (Mon, 06 Oct 2025) EllapsedTime: 243.3 seconds RetCode: 0 Status: OK PackageFile: condiments_1.16.0.tar.gz PackageFileSize: 2.251 MiB