Package: concordexR Version: 1.8.0 Command: /home/biocbuild/R/R/bin/R CMD INSTALL concordexR StartedAt: 2025-10-13 20:45:01 -0000 (Mon, 13 Oct 2025) EndedAt: 2025-10-13 20:45:35 -0000 (Mon, 13 Oct 2025) EllapsedTime: 34.1 seconds RetCode: 0 Status: OK