Package: concordexR Version: 1.8.0 Command: /home/biocbuild/R/R/bin/R CMD build --keep-empty-dirs --no-resave-data concordexR StartedAt: 2025-10-13 23:49:32 -0000 (Mon, 13 Oct 2025) EndedAt: 2025-10-13 23:51:46 -0000 (Mon, 13 Oct 2025) EllapsedTime: 134.0 seconds RetCode: 0 Status: OK PackageFile: concordexR_1.8.0.tar.gz PackageFileSize: 1.549 MiB