Package: concordexR Version: 1.8.0 Command: /Library/Frameworks/R.framework/Resources/bin/R CMD build --keep-empty-dirs --no-resave-data concordexR StartedAt: 2025-04-21 15:59:01 -0400 (Mon, 21 Apr 2025) EndedAt: 2025-04-21 15:59:42 -0400 (Mon, 21 Apr 2025) EllapsedTime: 41.5 seconds RetCode: 0 Status: OK PackageFile: concordexR_1.8.0.tar.gz PackageFileSize: 1.628 MiB