Package: compcodeR Version: 1.46.0 Command: /home/biocbuild/R/R/bin/R CMD INSTALL compcodeR StartedAt: 2025-11-10 21:11:34 -0000 (Mon, 10 Nov 2025) EndedAt: 2025-11-10 21:12:26 -0000 (Mon, 10 Nov 2025) EllapsedTime: 52.3 seconds RetCode: 0 Status: OK