Package: compcodeR Version: 1.46.0 Command: /home/biocbuild/R/R/bin/R CMD build --keep-empty-dirs --no-resave-data compcodeR StartedAt: 2025-11-11 00:39:34 -0000 (Tue, 11 Nov 2025) EndedAt: 2025-11-11 00:40:04 -0000 (Tue, 11 Nov 2025) EllapsedTime: 30.0 seconds RetCode: 0 Status: OK PackageFile: compcodeR_1.46.0.tar.gz PackageFileSize: 4.745 MiB