Package: compcodeR Version: 1.46.0 Command: /home/biocbuild/bbs-3.22-bioc/R/bin/R CMD check --install=check:compcodeR.install-out.txt --library=/home/biocbuild/bbs-3.22-bioc/R/site-library --timings compcodeR_1.46.0.tar.gz StartedAt: 2025-11-11 22:26:59 -0500 (Tue, 11 Nov 2025) EndedAt: 2025-11-11 22:32:10 -0500 (Tue, 11 Nov 2025) EllapsedTime: 311.3 seconds RetCode: 0 Status: OK CheckDir: compcodeR.Rcheck Warnings: 0