Package: compcodeR Version: 1.46.0 Command: /home/biocbuild/bbs-3.22-bioc/R/bin/R CMD build --keep-empty-dirs --no-resave-data --md5 compcodeR StartedAt: 2025-11-11 17:02:25 -0500 (Tue, 11 Nov 2025) EndedAt: 2025-11-11 17:02:47 -0500 (Tue, 11 Nov 2025) EllapsedTime: 22.0 seconds RetCode: 0 Status: OK PackageFile: compcodeR_1.46.0.tar.gz PackageFileSize: 4.749 MiB