Package: compcodeR Version: 1.46.0 Command: /Library/Frameworks/R.framework/Resources/bin/R CMD INSTALL compcodeR StartedAt: 2025-11-10 15:04:40 -0500 (Mon, 10 Nov 2025) EndedAt: 2025-11-10 15:04:56 -0500 (Mon, 10 Nov 2025) EllapsedTime: 16.0 seconds RetCode: 0 Status: OK