Package: compSPOT Version: 1.8.0 Command: /home/biocbuild/R/R/bin/R CMD INSTALL compSPOT StartedAt: 2025-11-13 21:14:01 -0000 (Thu, 13 Nov 2025) EndedAt: 2025-11-13 21:14:37 -0000 (Thu, 13 Nov 2025) EllapsedTime: 36.4 seconds RetCode: 0 Status: OK