Package: compSPOT Version: 1.8.0 Command: /home/biocbuild/R/R/bin/R CMD check --install=check:compSPOT.install-out.txt --library=/home/biocbuild/R/R/site-library --no-vignettes --timings compSPOT_1.8.0.tar.gz StartedAt: 2025-11-14 08:11:41 -0000 (Fri, 14 Nov 2025) EndedAt: 2025-11-14 08:16:19 -0000 (Fri, 14 Nov 2025) EllapsedTime: 277.3 seconds RetCode: 0 Status: OK CheckDir: compSPOT.Rcheck Warnings: 0