Package: compSPOT Version: 1.8.0 Command: /home/biocbuild/R/R/bin/R CMD build --keep-empty-dirs --no-resave-data compSPOT StartedAt: 2025-11-11 00:40:51 -0000 (Tue, 11 Nov 2025) EndedAt: 2025-11-11 00:41:28 -0000 (Tue, 11 Nov 2025) EllapsedTime: 37.1 seconds RetCode: 0 Status: OK PackageFile: compSPOT_1.8.0.tar.gz PackageFileSize: 462.5 KiB