Package: compSPOT Version: 1.8.0 Command: /home/biocbuild/bbs-3.22-bioc/R/bin/R CMD INSTALL compSPOT StartedAt: 2025-11-11 15:13:49 -0500 (Tue, 11 Nov 2025) EndedAt: 2025-11-11 15:14:02 -0500 (Tue, 11 Nov 2025) EllapsedTime: 13.1 seconds RetCode: 0 Status: OK