Package: compSPOT Version: 1.8.0 Command: /home/biocbuild/bbs-3.22-bioc/R/bin/R CMD check --install=check:compSPOT.install-out.txt --library=/home/biocbuild/bbs-3.22-bioc/R/site-library --timings compSPOT_1.8.0.tar.gz StartedAt: 2025-11-13 22:27:11 -0500 (Thu, 13 Nov 2025) EndedAt: 2025-11-13 22:30:43 -0500 (Thu, 13 Nov 2025) EllapsedTime: 212.2 seconds RetCode: 0 Status: OK CheckDir: compSPOT.Rcheck Warnings: 0