Package: compSPOT Version: 1.6.0 Command: /home/biocbuild/bbs-3.21-bioc/R/bin/R CMD check --install=check:compSPOT.install-out.txt --library=/home/biocbuild/bbs-3.21-bioc/R/site-library --timings compSPOT_1.6.0.tar.gz StartedAt: 2025-10-15 21:59:07 -0400 (Wed, 15 Oct 2025) EndedAt: 2025-10-15 22:02:34 -0400 (Wed, 15 Oct 2025) EllapsedTime: 206.2 seconds RetCode: 0 Status: OK CheckDir: compSPOT.Rcheck Warnings: 0