Package: compSPOT Version: 1.6.0 Command: /home/biocbuild/R/R/bin/R CMD check --install=check:compSPOT.install-out.txt --library=/home/biocbuild/R/R/site-library --no-vignettes --timings compSPOT_1.6.0.tar.gz StartedAt: 2025-10-07 07:57:42 -0000 (Tue, 07 Oct 2025) EndedAt: 2025-10-07 08:01:31 -0000 (Tue, 07 Oct 2025) EllapsedTime: 229.1 seconds RetCode: 0 Status: OK CheckDir: compSPOT.Rcheck Warnings: 0