Package: compEpiTools Version: 1.44.0 Command: /home/biocbuild/R/R/bin/R CMD INSTALL compEpiTools StartedAt: 2025-11-10 21:58:44 -0000 (Mon, 10 Nov 2025) EndedAt: 2025-11-10 22:00:03 -0000 (Mon, 10 Nov 2025) EllapsedTime: 79.0 seconds RetCode: 0 Status: OK