Package: compEpiTools Version: 1.44.0 Command: /home/biocbuild/R/R/bin/R CMD build --keep-empty-dirs --no-resave-data compEpiTools StartedAt: 2025-11-11 00:39:43 -0000 (Tue, 11 Nov 2025) EndedAt: 2025-11-11 00:41:50 -0000 (Tue, 11 Nov 2025) EllapsedTime: 127.1 seconds RetCode: 0 Status: OK PackageFile: compEpiTools_1.44.0.tar.gz PackageFileSize: 2.161 MiB