Package: compEpiTools Version: 1.42.0 Command: chmod a+r compEpiTools -R && E:\biocbuild\bbs-3.21-bioc\R\bin\R.exe CMD build --keep-empty-dirs --no-resave-data compEpiTools StartedAt: 2025-08-14 18:12:18 -0400 (Thu, 14 Aug 2025) EndedAt: 2025-08-14 18:14:48 -0400 (Thu, 14 Aug 2025) EllapsedTime: 149.6 seconds RetCode: 0 Status: OK PackageFile: compEpiTools_1.42.0.tar.gz PackageFileSize: 2.165 MiB