Package: compEpiTools Version: 1.44.0 Command: /home/biocbuild/bbs-3.22-bioc/R/bin/R CMD check --install=check:compEpiTools.install-out.txt --library=/home/biocbuild/bbs-3.22-bioc/R/site-library --timings compEpiTools_1.44.0.tar.gz StartedAt: 2025-11-11 22:27:16 -0500 (Tue, 11 Nov 2025) EndedAt: 2025-11-11 22:34:53 -0500 (Tue, 11 Nov 2025) EllapsedTime: 456.5 seconds RetCode: 0 Status: OK CheckDir: compEpiTools.Rcheck Warnings: 0