Package: compEpiTools Version: 1.44.0 Command: /home/biocbuild/bbs-3.22-bioc/R/bin/R CMD build --keep-empty-dirs --no-resave-data --md5 compEpiTools StartedAt: 2025-11-11 17:02:35 -0500 (Tue, 11 Nov 2025) EndedAt: 2025-11-11 17:04:02 -0500 (Tue, 11 Nov 2025) EllapsedTime: 87.1 seconds RetCode: 0 Status: OK PackageFile: compEpiTools_1.44.0.tar.gz PackageFileSize: 2.168 MiB