Package: combi Version: 1.22.0 Command: /Library/Frameworks/R.framework/Resources/bin/R CMD build --keep-empty-dirs --no-resave-data combi StartedAt: 2025-11-03 16:32:58 -0500 (Mon, 03 Nov 2025) EndedAt: 2025-11-03 16:36:24 -0500 (Mon, 03 Nov 2025) EllapsedTime: 206.4 seconds RetCode: 0 Status: OK PackageFile: combi_1.22.0.tar.gz PackageFileSize: 1.496 MiB