Package: combi Version: 1.20.0 Command: /home/biocbuild/R/R/bin/R CMD INSTALL combi StartedAt: 2025-10-09 21:07:04 -0000 (Thu, 09 Oct 2025) EndedAt: 2025-10-09 21:07:51 -0000 (Thu, 09 Oct 2025) EllapsedTime: 47.7 seconds RetCode: 0 Status: OK