Package: comapr Version: 1.14.0 Command: /home/biocbuild/bbs-3.22-bioc/R/bin/R CMD INSTALL comapr StartedAt: 2025-11-11 15:52:09 -0500 (Tue, 11 Nov 2025) EndedAt: 2025-11-11 15:53:02 -0500 (Tue, 11 Nov 2025) EllapsedTime: 52.9 seconds RetCode: 0 Status: OK