Package: comapr Version: 1.14.0 Command: /home/biocbuild/bbs-3.22-bioc/R/bin/R CMD check --install=check:comapr.install-out.txt --library=/home/biocbuild/bbs-3.22-bioc/R/site-library --timings comapr_1.14.0.tar.gz StartedAt: 2025-11-11 22:24:58 -0500 (Tue, 11 Nov 2025) EndedAt: 2025-11-11 22:32:22 -0500 (Tue, 11 Nov 2025) EllapsedTime: 444.4 seconds RetCode: 1 Status: ERROR CheckDir: comapr.Rcheck Warnings: NA