Package: comapr Version: 1.14.0 Command: /home/biocbuild/bbs-3.22-bioc/R/bin/R CMD build --keep-empty-dirs --no-resave-data --md5 comapr StartedAt: 2025-11-11 17:02:09 -0500 (Tue, 11 Nov 2025) EndedAt: 2025-11-11 17:03:31 -0500 (Tue, 11 Nov 2025) EllapsedTime: 82.1 seconds RetCode: 0 Status: OK PackageFile: comapr_1.14.0.tar.gz PackageFileSize: 1.013 MiB