Package: comapr Version: 1.12.0 Command: rm -rf comapr.buildbin-libdir && mkdir comapr.buildbin-libdir && /Users/biocbuild/BBS/utils/build-universal.sh comapr_1.12.0.tar.gz /Library/Frameworks/R.framework/Resources/bin/R comapr.buildbin-libdir StartedAt: 2025-04-21 22:30:39 -0400 (Mon, 21 Apr 2025) EndedAt: 2025-04-21 22:31:01 -0400 (Mon, 21 Apr 2025) EllapsedTime: 22.5 seconds RetCode: 0 Status: OK PackageFile: comapr_1.12.0.tgz PackageFileSize: 1.073 MiB