Package: comapr Version: 1.12.0 Command: /Library/Frameworks/R.framework/Resources/bin/R CMD INSTALL comapr StartedAt: 2025-10-13 17:38:40 -0400 (Mon, 13 Oct 2025) EndedAt: 2025-10-13 17:39:40 -0400 (Mon, 13 Oct 2025) EllapsedTime: 60.1 seconds RetCode: 0 Status: OK