Package: comapr Version: 1.12.0 Command: /Library/Frameworks/R.framework/Resources/bin/R CMD build --keep-empty-dirs --no-resave-data comapr StartedAt: 2025-10-13 21:43:47 -0400 (Mon, 13 Oct 2025) EndedAt: 2025-10-13 21:45:35 -0400 (Mon, 13 Oct 2025) EllapsedTime: 107.5 seconds RetCode: 0 Status: OK PackageFile: comapr_1.12.0.tar.gz PackageFileSize: 980.5 KiB