Package: comapr Version: 1.12.0 Maintainer: Ruqian Lyu MaintainerEmail: xiaoru.best at gmail.com git_url: https://git.bioconductor.org/packages/comapr git_branch: RELEASE_3_21 git_last_commit: 0318268 git_last_commit_date: 2025-04-15 12:44:28 -0400 (Tue, 15 Apr 2025)