Package: cola Version: 2.16.0 Command: /home/biocbuild/bbs-3.22-bioc/R/bin/R CMD build --keep-empty-dirs --no-resave-data --md5 cola StartedAt: 2025-11-13 16:59:05 -0500 (Thu, 13 Nov 2025) EndedAt: 2025-11-13 16:59:38 -0500 (Thu, 13 Nov 2025) EllapsedTime: 33.0 seconds RetCode: 0 Status: OK PackageFile: cola_2.16.0.tar.gz PackageFileSize: 3.663 MiB